BEGIN:VCALENDAR
VERSION:2.0
PRODID:-//Golf &amp; Tacos - ECPv5.14.1//NONSGML v1.0//EN
CALSCALE:GREGORIAN
METHOD:PUBLISH
X-WR-CALNAME:Golf &amp; Tacos
X-ORIGINAL-URL:https://golfandtacos.com
X-WR-CALDESC:Events for Golf &amp; Tacos
REFRESH-INTERVAL;VALUE=DURATION:PT1H
X-Robots-Tag:noindex
X-PUBLISHED-TTL:PT1H
BEGIN:VTIMEZONE
TZID:America/Vancouver
BEGIN:DAYLIGHT
TZOFFSETFROM:-0800
TZOFFSETTO:-0700
TZNAME:PDT
DTSTART:20210314T100000
END:DAYLIGHT
BEGIN:STANDARD
TZOFFSETFROM:-0700
TZOFFSETTO:-0800
TZNAME:PST
DTSTART:20211107T090000
END:STANDARD
END:VTIMEZONE
BEGIN:VEVENT
DTSTART;TZID=America/Vancouver:20210615T170000
DTEND;TZID=America/Vancouver:20210615T210000
DTSTAMP:20260422T021609
CREATED:20210601T093511Z
LAST-MODIFIED:20210601T094452Z
UID:10807-1623776400-1623790800@golfandtacos.com
SUMMARY:GOLF & TACOS VANCOUVER | CO-ED MIXER NIGHT (June 15)
DESCRIPTION:LET’S MIX THINGS UP…\nGrab your ride or die\, your beau\, your fave hunni\, your sibling\, your BFF\, or even that hot golfer you matched with–our first co-ed night is here and it’s time to finally lock-in that round you’ve been talking about booking… \nThrow on your favourite golf outfit\, pack your bluetooth speakers and join us for evening of golf\, bevies\, laughs and of course… post-round quesadillas! (Okay\, tacos weren’t in the cards this time but quesadillas deserve some love too). \nTHE DETAILS \nWho: You & a golf-lovin’ pal\nWhen: Tuesday\, June 15\nWhere: McCleery Golf Course\nTwosome Package: $140 + taxes and fees \nPAIRING REQUESTS\nIf you’re requesting to play with another twosome you can do so by either purchasing (2) x twosomes\, or by letting us know the names of the other golfers in the order notes when checking out. \nPACKAGE INCLUDES \n\n(2) x 9-hole Greens Fees\,\n(1) x $50 GC for F&B at McCleery Golf Course restaurant\nPrizes\nOutdoor and physically distant good times\n\nSCHEDULE\n5:20 PM | Check-in opens\n5:30 PM | Tee times start (rolling tee times)\nRestaurant and patio open until 9pm \n  Open to ALL people and ALL spicy levels\, though being comfortable playing a standard par 5 golf course is strongly encouraged. \n__ \nCANCELLATION / REFUND POLICY:\nAll program sales are final. No substitutions. Cancellation and refund requests for medical reasons only. By purchasing package the purchaser confirms they have read program description and agree to the terms of the package including: contents\, dates\, times\, price\, and cancellation and refund policy restrictions. \nWAIVER & RELEASE OF LIABILITY: \nAll participants are required to sign a waiver in advance of program. 
URL:https://golfandtacos.com/event/golf-tacos-vancouver-co-ed-mixer-june-15/
LOCATION:McCleery Golf Course\, 7188 Macdonald St\, Vancouver\, BC\, V6N 1G2\, Canada
CATEGORIES:HOT,MEDIUM,SPECIAL EVENTS,SPICY,Vancouver
ORGANIZER;CN="Golf%20%26%20Tacos%20Vancouver":MAILTO:golfandtacos.vancouver@gmail.com
END:VEVENT
END:VCALENDAR