BEGIN:VCALENDAR
VERSION:2.0
PRODID:-//Golf &amp; Tacos - ECPv5.14.1//NONSGML v1.0//EN
CALSCALE:GREGORIAN
METHOD:PUBLISH
X-WR-CALNAME:Golf &amp; Tacos
X-ORIGINAL-URL:https://golfandtacos.com
X-WR-CALDESC:Events for Golf &amp; Tacos
REFRESH-INTERVAL;VALUE=DURATION:PT1H
X-Robots-Tag:noindex
X-PUBLISHED-TTL:PT1H
BEGIN:VTIMEZONE
TZID:America/Denver
BEGIN:DAYLIGHT
TZOFFSETFROM:-0700
TZOFFSETTO:-0600
TZNAME:MDT
DTSTART:20210314T090000
END:DAYLIGHT
BEGIN:STANDARD
TZOFFSETFROM:-0600
TZOFFSETTO:-0700
TZNAME:MST
DTSTART:20211107T080000
END:STANDARD
END:VTIMEZONE
BEGIN:VEVENT
DTSTART;TZID=America/Denver:20210602T171500
DTEND;TZID=America/Denver:20210602T204500
DTSTAMP:20260422T021555
CREATED:20210415T143351Z
LAST-MODIFIED:20210520T034330Z
UID:7617-1622654100-1622666700@golfandtacos.com
SUMMARY:EARLY SUMMER | GROUP LESSONS | WEDNESDAYS (June 2\, 9\, 16\, 23) + FRIDAY (June 25) **EAGLEQUEST**
DESCRIPTION:Early Summer Group Lessons\nWEDNESDAYS | June 2\, 9\, 16\, 23 + FRIDAY June 25 Wrap Night\nLocation: EagleQuest Coquitlam\nCoached by: Kyle McMurphy \nLESSON TIMESLOT OPTIONS:\n5:15 | MILD\n6:30 | MEDIUM\n7:45 | MILD\nWrap Night: FRIDAY\, June 25 from approx. 5-9 p.m. (University Golf Club) \nREGISTRATION INCLUDES:\n(4) 60-minute group lessons* \n(1) Wrap night with taco dinner + drink\, 9-hole greens fee\, cart\n(1) EagleQuest Coquitlam driving range card to practice between lesson each week \n*NOTE: Dinner is only included on the first and last nights (June 2 and June 25). Participants are welcome head to the EgaleQuest Coquitlam patio for a bite and bevy with your group on lessons 2\, 3\, and 4 should your schedule allow before or after your lesson.\n\n__\nCANCELLATION / REFUND POLICY: \nAll program sales are final. No substitutions. Cancellation and refund requests will be reviewed by submitting a Request A Refund form located on the FAQ page. Participant substitutions are not be permitted. Golf & Tacos does not guarantee\, but will make a reasonable best effort to schedule a make-up lesson date upon the conclusion of the program for those participants who missed lessons for medical reasons or family emergencies. By purchasing package the purchaser confirms they have read program description and agree to the terms of the package including: contents\, dates\, times\, price\, and cancellation and refund policy restrictions.
URL:https://golfandtacos.com/event/early-summer-group-lessons-wednesdays-june-2-9-16-23-saturday-june-26/
LOCATION:EagleQuest Coquitlam\, 1001 United Blvd\, Coquitlam\, British Columbia\, V3K 4S8\, Canada
CATEGORIES:GROUP LESSON,MEDIUM,MILD,Vancouver
ORGANIZER;CN="Golf%20%26%20Tacos%20Vancouver":MAILTO:golfandtacos.vancouver@gmail.com
END:VEVENT
END:VCALENDAR