BEGIN:VCALENDAR
VERSION:2.0
PRODID:-//Golf &amp; Tacos - ECPv5.14.1//NONSGML v1.0//EN
CALSCALE:GREGORIAN
METHOD:PUBLISH
X-WR-CALNAME:Golf &amp; Tacos
X-ORIGINAL-URL:https://golfandtacos.com
X-WR-CALDESC:Events for Golf &amp; Tacos
REFRESH-INTERVAL;VALUE=DURATION:PT1H
X-Robots-Tag:noindex
X-PUBLISHED-TTL:PT1H
BEGIN:VTIMEZONE
TZID:America/Vancouver
BEGIN:DAYLIGHT
TZOFFSETFROM:-0800
TZOFFSETTO:-0700
TZNAME:PDT
DTSTART:20210314T100000
END:DAYLIGHT
BEGIN:STANDARD
TZOFFSETFROM:-0700
TZOFFSETTO:-0800
TZNAME:PST
DTSTART:20211107T090000
END:STANDARD
END:VTIMEZONE
BEGIN:VEVENT
DTSTART;TZID=America/Vancouver:20210601T171500
DTEND;TZID=America/Vancouver:20210601T204500
DTSTAMP:20260422T021547
CREATED:20210507T080857Z
LAST-MODIFIED:20210512T225156Z
UID:10304-1622567700-1622580300@golfandtacos.com
SUMMARY:EARLY SUMMER | GROUP LESSONS | TUESDAYS (JUNE 1\, 8\, 15\, 22) + FRIDAY (JUNE 25) **MCCLEERY**
DESCRIPTION:Early Summer Group Lessons\nTUESDAYS | June 1\, 8\, 15\, 22 + FRIDAY June 25 Wrap Night\nLocation: McCleery Golf Course\nCoached by: Mike Vanderwolf \nLESSON TIMESLOT OPTIONS:\n5:15 | MILD\n6:30 | MEDIUM\n7:45 | MILD\nWrap Night: FRIDAY\, June 25 from approx. 5-9 p.m. at University Golf Club \nREGISTRATION INCLUDES:\n(4) 60-minute group lessons\n(1) $25 Tacofino GC to enjoy with your crew when dining allows*\n(1) Wrap night with taco dinner + drink\, 9-hole greens fee \n*NOTE: Due to COVID-19\, we are unable to formally offer our welcome taco dinner. We have however opted to support local by instead providing Tacofino GCs to our golfers that can be used at a later date to enjoy tasty tacos together when restrictions allow. McCleery Golf Course does have a concession stand that sells alternative F&B options should participants wish to enjoy refreshments before / after each lesson.\n\n__\nCANCELLATION / REFUND POLICY:\nAll program sales are final. No substitutions. Cancellation and refund requests will be reviewed individually by emailing info@138.197.147.225. Processing fees are non-refundable. Participant substitutions are not be permitted once program begins. Golf & Tacos does not guarantee\, but will make a reasonable best effort to schedule a make-up lesson date upon the conclusion of the program for those participants who missed lessons for medical reasons or family emergencies. Program dates and times subject to change due to changing restrictions established by the BC Government’s provincial health orders. By purchasing package the purchaser confirms they have read program description and agree to the terms of the package including: contents\, dates\, times\, price\, and cancellation and refund policy restrictions.
URL:https://golfandtacos.com/event/early-summer-group-lessons-tuesdays-june-1-8-15-22-friday-june-25-mccleery/
LOCATION:McCleery Golf Course\, 7188 Macdonald St\, Vancouver\, BC\, V6N 1G2\, Canada
CATEGORIES:GROUP LESSON,MEDIUM,MILD,Vancouver
ORGANIZER;CN="Golf%20%26%20Tacos%20Vancouver":MAILTO:golfandtacos.vancouver@gmail.com
END:VEVENT
END:VCALENDAR