BEGIN:VCALENDAR
VERSION:2.0
PRODID:-//Golf &amp; Tacos - ECPv5.14.1//NONSGML v1.0//EN
CALSCALE:GREGORIAN
METHOD:PUBLISH
X-WR-CALNAME:Golf &amp; Tacos
X-ORIGINAL-URL:https://golfandtacos.com
X-WR-CALDESC:Events for Golf &amp; Tacos
REFRESH-INTERVAL;VALUE=DURATION:PT1H
X-Robots-Tag:noindex
X-PUBLISHED-TTL:PT1H
BEGIN:VTIMEZONE
TZID:America/Vancouver
BEGIN:DAYLIGHT
TZOFFSETFROM:-0800
TZOFFSETTO:-0700
TZNAME:PDT
DTSTART:20210314T100000
END:DAYLIGHT
BEGIN:STANDARD
TZOFFSETFROM:-0700
TZOFFSETTO:-0800
TZNAME:PST
DTSTART:20211107T090000
END:STANDARD
END:VTIMEZONE
BEGIN:VEVENT
DTSTART;TZID=America/Vancouver:20210712T173000
DTEND;TZID=America/Vancouver:20210809T210000
DTSTAMP:20260421T211140
CREATED:20210611T005708Z
LAST-MODIFIED:20210713T183213Z
UID:11064-1626111000-1628542800@golfandtacos.com
SUMMARY:VANCOUVER | MID SUMMER | PAR 3 LEAGUE | MONDAYS (JULY 12\, 19\, 26\, AUG 9) **EAGLEQUEST**
DESCRIPTION:MID SUMMER MILD MONDAYS LEAGUE\nMONDAYS | July 12\, 19\, 26\, Aug 9\nLocation: EAGLEQUEST COQUITLAM Par 3\n\nSPICY LEVEL: MILD+\, MEDIUM\nThe MILD MONDAYS League Nights at EAGLEQUEST COQUITLAM are for our gals that just can’t wait to crush tacos until Tuesday and are ready to start their week off right. We’ll be bringing out all the pitch & putt vibes so that no matter whether your coming to work on your short game (and don’t we all)\, or you’re just trying out this whole golf thing with your pals–these nights are a low pressure way to check things out and squeeze in a quick rip around the Par 3. No scores. No competition. Just the golf\, tacos\, and patio bevies you’ve probably come to us for. Never picked up a club before? We recommend you grab one of the MID SUMMER MILD GROUP LESSONS with one of our coaches first!\nSCHEDULE:\nExact times subject to change. \n5:30 | Check-in + dinner area opens for first few tee times\n6:30 | Tee times begin (rolling start) \nREGISTRATION INCLUDES:\n(4-pack) or (Single Night) Golf & Tacos nights at EAGLEQUEST COQUITLAM including: tacos dinner + drink + greens fee + prizes \n___\nCANCELLATION / REFUND POLICY:\nAll program sales are final. No substitutions. Cancellation and refund requests for medical reasons will be reviewed by emailing info@167.99.187.115. By purchasing package\, the purchaser confirms they have read program description and agree to the terms of the package including: contents\, dates\, times\, price\, and cancellation and refund policy restrictions.
URL:https://golfandtacos.com/event/vancouver-mid-summer-par3-league-mondays-july-12-19-26-aug-9-eaglequest/
LOCATION:EagleQuest Coquitlam\, 1001 United Blvd\, Coquitlam\, British Columbia\, V3K 4S8\, Canada
CATEGORIES:HOT,LEAGUE PLAY,MEDIUM,MILD,SPICY,Vancouver
ORGANIZER;CN="Golf%20%26%20Tacos%20Vancouver":MAILTO:golfandtacos.vancouver@gmail.com
END:VEVENT
BEGIN:VEVENT
DTSTART;TZID=America/Vancouver:20210810T171500
DTEND;TZID=America/Vancouver:20210810T210000
DTSTAMP:20260421T211140
CREATED:20210611T025044Z
LAST-MODIFIED:20210721T222810Z
UID:11088-1628615700-1628629200@golfandtacos.com
SUMMARY:VANCOUVER | LATE SUMMER | GROUP LESSONS | TUESDAYS (AUG 10\, 17\, 24\, 31) + FRIDAY (SEPT 10) **MCCLEERY**
DESCRIPTION:LATE SUMMER GROUP LESSONS\nTUESDAYS | Aug 10\, 17\, 24\, 31 + FRIDAY (Sept 10) Wrap Night\nLessons Location: MCCLEERY GOLF COURSE\nWrap Night: UNIVERSITY GOLF CLUB\nCoached by: Dan Axford \nLESSON:\n5:15 | MILD\n6:30 | MILD\n7:45 | HOT \n  \nREGISTRATION INCLUDES:\n(4) 60-minute group lessons\n(1) $25 Tacofino GC to enjoy with your crew when dining allows*\n(1) Wrap night with taco dinner + drink\, 9-hole greens fee at UNIVERSITY GOLF CLUB \n*NOTE: Due to COVID-19\, we are unable to formally offer our welcome taco dinner. We have however opted to support local by instead providing Tacofino GCs to our golfers that can be used at a later date to enjoy tasty tacos together when restrictions allow. McCleery Golf Course does have a concession stand that sells alternative F&B options should participants wish to enjoy refreshments before / after each lesson.\n__\nCANCELLATION / REFUND POLICY: \nAll program sales are final. No substitutions. Cancellation and refund requests will be reviewed by emailing info@167.99.187.115. Participant substitutions are not be permitted. Golf & Tacos does not guarantee\, but will make a reasonable best effort to schedule a make-up lesson date upon the conclusion of the program for those participants who missed lessons for medical reasons or family emergencies. By purchasing package the purchaser confirms they have read program description and agree to the terms of the package including: contents\, dates\, times\, price\, and cancellation and refund policy restrictions.
URL:https://golfandtacos.com/event/vancouver-late-summer-group-lessons-tuesdays-aug-10-17-24-31-friday-sept-10-mccleery/
LOCATION:McCleery Golf Course\, 7188 Macdonald St\, Vancouver\, BC\, V6N 1G2\, Canada
CATEGORIES:GROUP LESSON,HOT,MILD,Vancouver
ORGANIZER;CN="Golf%20%26%20Tacos%20Vancouver":MAILTO:golfandtacos.vancouver@gmail.com
END:VEVENT
BEGIN:VEVENT
DTSTART;TZID=America/Vancouver:20210811T173000
DTEND;TZID=America/Vancouver:20210811T210000
DTSTAMP:20260421T211140
CREATED:20210611T031950Z
LAST-MODIFIED:20210802T022827Z
UID:11098-1628703000-1628715600@golfandtacos.com
SUMMARY:VANCOUVER | LATE SUMMER | GROUP LESSONS | WEDNESDAYS (AUG 11\, 18\, 25\, SEPT 1) + FRIDAY (SEPT 10) **EAGLEQUEST**
DESCRIPTION:LATE SUMMER GROUP LESSONS\nWEDNESDAYS | Aug 11\, 18\, 25\, Sept 1 + FRIDAY (Sept 10) Wrap Night\nLessons Location: EAGLEQUEST COQUITLAM\nWrap Night: UNIVERSITY GOLF CLUB\nCoached by: Kyle McMurphy \nLESSON:\n5:15 | MEDIUM\n6:30 | MILD\n7:45 | HOT \n  \nREGISTRATION INCLUDES:\n(4) 60-minute group lessons* \n(1) Wrap night with taco dinner + drink\, 9-hole greens fee\, cart at UNIVERSITY GOLF CLUB\n(1) EagleQuest Coquitlam driving range card to practice between lesson each week \n  \n*NOTE: Dinner is only included on the first and last nights (Aug 11 and Sept 10). Participants are welcome to head to the restaurant patio to grab tacos on lessons 2\, 3\, and 4 should your schedule allow before or after your lesson. \n__ \nCANCELLATION / REFUND POLICY: \nAll program sales are final. No substitutions. Cancellation and refund requests will be reviewed by emailing info@167.99.187.115. Participant substitutions are not be permitted. Golf & Tacos does not guarantee\, but will make a reasonable best effort to schedule a make-up lesson date upon the conclusion of the program for those participants who missed lessons for medical reasons or family emergencies. By purchasing package the purchaser confirms they have read program description and agree to the terms of the package including: contents\, dates\, times\, price\, and cancellation and refund policy restrictions.
URL:https://golfandtacos.com/event/vancouver-late-summer-group-lessons-wednesdays-aug-11-18-25-sept-1-friday-sept-10-eaglequest/
LOCATION:EagleQuest Coquitlam\, 1001 United Blvd\, Coquitlam\, British Columbia\, V3K 4S8\, Canada
CATEGORIES:GROUP LESSON,MEDIUM,MILD,Vancouver
ORGANIZER;CN="Golf%20%26%20Tacos%20Vancouver":MAILTO:golfandtacos.vancouver@gmail.com
END:VEVENT
BEGIN:VEVENT
DTSTART;TZID=America/Vancouver:20210812T170000
DTEND;TZID=America/Vancouver:20210902T210000
DTSTAMP:20260421T211140
CREATED:20210611T022001Z
LAST-MODIFIED:20210816T175441Z
UID:11078-1628787600-1630616400@golfandtacos.com
SUMMARY:VANCOUVER | LATE SUMMER | LEAGUE NIGHTS | THURSDAYS (AUG 12\, 19\, 26\, SEPT 2) **UNIVERSITY GOLF CLUB**
DESCRIPTION:LATE SUMMER LEAGUE NIGHTS\nTHURSDAYS | Aug 12\, 19\, 26\, Sept 2\nLocation: UNIVERSITY GOLF CLUB \n  \nSPICY LEVEL: MEDIUM+\nThursday League Nights at University Golf Club are gonna be all sorts of good vibes. These are geared towards Golf & Tacos community members with some golf course experience already and a comfort level of MEDIUM or higher. Participants should feel comfortable playing Par 4 and Par 5 holes and be able to maintain reasonable pace of play. \nThis program is not geared towards our MILD golfers\, but guess what… we have a MILD League just for you! Please register for the Monday MILD League to ensure you and your foursome have the best experience possible as you practice your skills and gain experience. Never picked up a club before? Grab one of our MILD GROUP LESSONS to learn the fundamentals in a fun and social environment. \n\n\nSCHEDULE (TBC):\n5:00 | Check-in and dinner opens for first few tee times\n6:10 | Rolling tee times begin (assigned in advance) \n  \n\n\nREGISTRATION INCLUDES:\nPackage of (4) Nights at University Golf Club including: tacos dinner + drink\, greens fee (pull cart included) \n\nDESCRIPTION:\nLeague Nights are a non-competitive opportunity for an intimate crew of ladies to hit the course for some golf + tacos for four (4) consecutive nights! Format will be rolling start for tee times\, meaning each week you’ll get a new tee time between 6:10 – 7:10 pm. More detailed information and tee times will be emailed to participants a few days prior to the start date. Participants should ensure they can arrive in time for 5:00 p.m. dinner at the golf course prior to registering for this program as tee times will be assigned a few days in advance. \n__\nCANCELLATION / REFUND POLICY:\nAll program sales are final. No substitutions. Cancellation and refund requests for medical reasons will be reviewed by emailing info@167.99.187.115. By purchasing package\, the purchaser confirms they have read program description and agree to the terms of the package including: contents\, dates\, times\, price\, and cancellation and refund policy restrictions.
URL:https://golfandtacos.com/event/vancouver-late-summer-medium-league-thursdays-aug-12-19-26-sept-2-university-golf-club/
LOCATION:University Golf Club\, 5185 University Blvd\, Vancouver\, British Columbia\, V6T 1X5\, Canada
CATEGORIES:HOT,LEAGUE PLAY,MEDIUM,SPICY,Vancouver
ORGANIZER;CN="Golf%20%26%20Tacos%20Vancouver":MAILTO:golfandtacos.vancouver@gmail.com
END:VEVENT
BEGIN:VEVENT
DTSTART;TZID=America/Vancouver:20210816T173000
DTEND;TZID=America/Vancouver:20210913T210000
DTSTAMP:20260421T211140
CREATED:20210611T015904Z
LAST-MODIFIED:20210727T202511Z
UID:11072-1629135000-1631566800@golfandtacos.com
SUMMARY:VANCOUVER | LATE SUMMER | PAR 3 LEAGUE | MONDAYS (AUG 16\, 23\, 30\, SEPT 13) **EAGLEQUEST**
DESCRIPTION:LATE SUMMER MILD MONDAYS LEAGUE\nMONDAYS | Aug 16\, 23\, 30\, Sept 13\nLocation: EAGLEQUEST COQUITLAM Par 3\n\nSPICY LEVEL: MILD+\, MEDIUM\nThe MILD MONDAYS League Nights at EAGLEQUEST COQUITLAM are for our gals that just can’t wait to crush tacos until Tuesday and are ready to start their week off RIGHT. We’ll be bringing out all the pitch & putt vibes so that no matter whether your coming to work on your short game (and don’t we all)\, or you’re just trying out this whole golf thing with your pals–these nights are a low pressure way to check things out and squeeze in a quick rip around the Par 3. No scores. No competition. Just the golf\, tacos\, and patio bevies you’ve probably come to us for.Never picked up a club before? We recommend you grab one of the LATE SUMMER MILD GROUP LESSONS with one of our coaches first!  \n\nSCHEDULE:\nExact times subject to change. \n5:30 | Check-in + dinner area opens\n6:30 | Tee times begin (rolling start) \nREGISTRATION INCLUDES:\n(4) Golf & Tacos nights at EAGLEQUEST COQUITLAM including: tacos dinner + drink + greens fee + prizes \n___\nCANCELLATION / REFUND POLICY:\nAll program sales are final. No substitutions. Cancellation and refund requests for medical reasons will be reviewed by emailing info@167.99.187.115. By purchasing package\, the purchaser confirms they have read program description and agree to the terms of the package including: contents\, dates\, times\, price\, and cancellation and refund policy restrictions.
URL:https://golfandtacos.com/event/vancouver-late-summer-par3-league-mondays-aug-16-23-30-sept-13-eaglequest/
LOCATION:EagleQuest Coquitlam\, 1001 United Blvd\, Coquitlam\, British Columbia\, V3K 4S8\, Canada
CATEGORIES:HOT,LEAGUE PLAY,MEDIUM,MILD,SPICY,Vancouver
ORGANIZER;CN="Golf%20%26%20Tacos%20Vancouver":MAILTO:golfandtacos.vancouver@gmail.com
END:VEVENT
END:VCALENDAR