BEGIN:VCALENDAR
VERSION:2.0
PRODID:-//Golf &amp; Tacos - ECPv5.14.1//NONSGML v1.0//EN
CALSCALE:GREGORIAN
METHOD:PUBLISH
X-WR-CALNAME:Golf &amp; Tacos
X-ORIGINAL-URL:https://golfandtacos.com
X-WR-CALDESC:Events for Golf &amp; Tacos
REFRESH-INTERVAL;VALUE=DURATION:PT1H
X-Robots-Tag:noindex
X-PUBLISHED-TTL:PT1H
BEGIN:VTIMEZONE
TZID:America/Vancouver
BEGIN:DAYLIGHT
TZOFFSETFROM:-0800
TZOFFSETTO:-0700
TZNAME:PDT
DTSTART:20210314T100000
END:DAYLIGHT
BEGIN:STANDARD
TZOFFSETFROM:-0700
TZOFFSETTO:-0800
TZNAME:PST
DTSTART:20211107T090000
END:STANDARD
END:VTIMEZONE
BEGIN:VEVENT
DTSTART;TZID=America/Vancouver:20210712T173000
DTEND;TZID=America/Vancouver:20210809T210000
DTSTAMP:20260421T224931
CREATED:20210611T005708Z
LAST-MODIFIED:20210713T183213Z
UID:11064-1626111000-1628542800@golfandtacos.com
SUMMARY:VANCOUVER | MID SUMMER | PAR 3 LEAGUE | MONDAYS (JULY 12\, 19\, 26\, AUG 9) **EAGLEQUEST**
DESCRIPTION:MID SUMMER MILD MONDAYS LEAGUE\nMONDAYS | July 12\, 19\, 26\, Aug 9\nLocation: EAGLEQUEST COQUITLAM Par 3\n\nSPICY LEVEL: MILD+\, MEDIUM\nThe MILD MONDAYS League Nights at EAGLEQUEST COQUITLAM are for our gals that just can’t wait to crush tacos until Tuesday and are ready to start their week off right. We’ll be bringing out all the pitch & putt vibes so that no matter whether your coming to work on your short game (and don’t we all)\, or you’re just trying out this whole golf thing with your pals–these nights are a low pressure way to check things out and squeeze in a quick rip around the Par 3. No scores. No competition. Just the golf\, tacos\, and patio bevies you’ve probably come to us for. Never picked up a club before? We recommend you grab one of the MID SUMMER MILD GROUP LESSONS with one of our coaches first!\nSCHEDULE:\nExact times subject to change. \n5:30 | Check-in + dinner area opens for first few tee times\n6:30 | Tee times begin (rolling start) \nREGISTRATION INCLUDES:\n(4-pack) or (Single Night) Golf & Tacos nights at EAGLEQUEST COQUITLAM including: tacos dinner + drink + greens fee + prizes \n___\nCANCELLATION / REFUND POLICY:\nAll program sales are final. No substitutions. Cancellation and refund requests for medical reasons will be reviewed by emailing info@167.99.187.115. By purchasing package\, the purchaser confirms they have read program description and agree to the terms of the package including: contents\, dates\, times\, price\, and cancellation and refund policy restrictions.
URL:https://golfandtacos.com/event/vancouver-mid-summer-par3-league-mondays-july-12-19-26-aug-9-eaglequest/
LOCATION:EagleQuest Coquitlam\, 1001 United Blvd\, Coquitlam\, British Columbia\, V3K 4S8\, Canada
CATEGORIES:HOT,LEAGUE PLAY,MEDIUM,MILD,SPICY,Vancouver
ORGANIZER;CN="Golf%20%26%20Tacos%20Vancouver":MAILTO:golfandtacos.vancouver@gmail.com
END:VEVENT
BEGIN:VEVENT
DTSTART;TZID=America/Vancouver:20210713T171500
DTEND;TZID=America/Vancouver:20210713T210000
DTSTAMP:20260421T224931
CREATED:20210611T024141Z
LAST-MODIFIED:20210616T205318Z
UID:11081-1626196500-1626210000@golfandtacos.com
SUMMARY:VANCOUVER | MID SUMMER | GROUP LESSONS | TUESDAYS (JULY 13\, 20\, 27\, AUG 3) + FRIDAY (AUG 6) **MCCLEERY**
DESCRIPTION:MID SUMMER GROUP LESSONS\nTUESDAYS | July 13\, 20\, 27\, Aug 3 + FRIDAY (Aug 6) Wrap Night\nLessons Location: MCCLEERY GOLF COURSE\nWrap Night: UNIVERSITY GOLF CLUB\nCoached by: Dan Axford \nLESSON:\n5:15 | MILD\n6:30 | MEDIUM\n7:45 | MILD \n  \nREGISTRATION INCLUDES:\n(4) 60-minute group lessons\n(1) $25 Tacofino GC to enjoy with your crew when dining allows*\n(1) Wrap night with taco dinner + drink\, 9-hole greens fee at UNIVERSITY GOLF CLUB \n*NOTE: Due to COVID-19\, we are unable to formally offer our welcome taco dinner. We have however opted to support local by instead providing Tacofino GCs to our golfers that can be used at a later date to enjoy tasty tacos together when restrictions allow. McCleery Golf Course does have a concession stand that sells alternative F&B options should participants wish to enjoy refreshments before / after each lesson.\n__\nCANCELLATION / REFUND POLICY: \nAll program sales are final. No substitutions. Cancellation and refund requests will be reviewed by emailing info@167.99.187.115. Participant substitutions are not be permitted. Golf & Tacos does not guarantee\, but will make a reasonable best effort to schedule a make-up lesson date upon the conclusion of the program for those participants who missed lessons for medical reasons or family emergencies. By purchasing package the purchaser confirms they have read program description and agree to the terms of the package including: contents\, dates\, times\, price\, and cancellation and refund policy restrictions.
URL:https://golfandtacos.com/event/vancouver-mid-summer-group-lessons-tuesdays-july-13-20-27-aug-3-friday-aug-6-mccleery/
LOCATION:McCleery Golf Course\, 7188 Macdonald St\, Vancouver\, BC\, V6N 1G2\, Canada
CATEGORIES:GROUP LESSON,MEDIUM,MILD,Vancouver
ORGANIZER;CN="Golf%20%26%20Tacos%20Vancouver":MAILTO:golfandtacos.vancouver@gmail.com
END:VEVENT
BEGIN:VEVENT
DTSTART;TZID=America/Vancouver:20210714T171500
DTEND;TZID=America/Vancouver:20210714T210000
DTSTAMP:20260421T224931
CREATED:20210611T031304Z
LAST-MODIFIED:20210714T021258Z
UID:11093-1626282900-1626296400@golfandtacos.com
SUMMARY:VANCOUVER | MID SUMMER | GROUP LESSONS | WEDNESDAYS (JULY 14\, 21\, 28\, AUG 4) + FRIDAY (AUG 6) **EAGLEQUEST**
DESCRIPTION:MID SUMMER GROUP LESSONS\nWEDNESDAYS | July 14\, 21\, 28\, Aug 4 + FRIDAY (Aug 6) Wrap Night\nLessons Location: EAGLEQUEST COQUITLAM\nWrap Night: UNIVERSITY GOLF CLUB\nCoached by: Kyle McMurphy \nLESSON:\n6:30 | MILD\n7:45 | MEDIUM \n  \nREGISTRATION INCLUDES:\n(4) 60-minute group lessons* \n(1) Wrap night with taco dinner + drink\, 9-hole greens fee\, cart at UNIVERSITY GOLF CLUB\n(1) EagleQuest Coquitlam driving range card to practice between lesson each week \n  \n*NOTE: Dinner is only included on the first and last nights (July 14 and Aug 6). Participants are welcome to head to the restaurant patio to grab tacos on lessons 2\, 3\, and 4 should your schedule allow before or after your lesson. \n__ \nCANCELLATION / REFUND POLICY: \nAll program sales are final. No substitutions. Cancellation and refund requests will be reviewed by emailing info@167.99.187.115. Participant substitutions are not be permitted. Golf & Tacos does not guarantee\, but will make a reasonable best effort to schedule a make-up lesson date upon the conclusion of the program for those participants who missed lessons for medical reasons or family emergencies. By purchasing package the purchaser confirms they have read program description and agree to the terms of the package including: contents\, dates\, times\, price\, and cancellation and refund policy restrictions.
URL:https://golfandtacos.com/event/vancouver-mid-summer-group-lessons-wednesdays-july-14-21-28-aug-4-friday-aug-6-eaglequest/
LOCATION:EagleQuest Coquitlam\, 1001 United Blvd\, Coquitlam\, British Columbia\, V3K 4S8\, Canada
CATEGORIES:GROUP LESSON,HOT,MEDIUM,MILD,Vancouver
ORGANIZER;CN="Golf%20%26%20Tacos%20Vancouver":MAILTO:golfandtacos.vancouver@gmail.com
END:VEVENT
BEGIN:VEVENT
DTSTART;TZID=America/Vancouver:20210715T170000
DTEND;TZID=America/Vancouver:20210715T210000
DTSTAMP:20260421T224931
CREATED:20210611T021201Z
LAST-MODIFIED:20210714T000759Z
UID:11075-1626368400-1626382800@golfandtacos.com
SUMMARY:VANCOUVER | MID SUMMER | LEAGUE NIGHTS | THURSDAYS (JULY 15\, 22\, 29\, AUG 5) **UNIVERSITY GOLF CLUB**
DESCRIPTION:MID SUMMER LEAGUE NIGHTS\nTHURSDAYS | July 15\, 22\, 29\, Aug 5\nLocation: UNIVERSITY GOLF CLUB \n  \nSPICY LEVEL: MEDIUM+\nThursday League Nights at University Golf Club are gonna be all sorts of good vibes. These are geared towards Golf & Tacos community members with some golf course experience already and a comfort level of MEDIUM or higher. Participants should feel comfortable playing Par 4 and Par 5 holes and be able to maintain reasonable pace of play. This program is not geared towards our MILD golfers\, but guess what… we have a MILD League just for you! Please register for the Monday MILD League to ensure you and your foursome have the best experience possible as you practice your skills and gain experience. \n\n\nSCHEDULE (TBC):\n5:00 | Check-in and dinner opens for first few tee times\n6:10 | Rolling tee times begin (assigned in advance) \n  \n\n\nREGISTRATION OPTIONS:\nPackage of (4) Nights OR Grab a Single Night (1) at University Golf Club including: tacos dinner + drink\, greens fee (pull cart included)\, tee gift\, prizes \n\nDESCRIPTION:\nLeague Nights are a non-competitive opportunity for an intimate crew of ladies to hit the course for some golf + tacos for four (4) consecutive nights! Format will be rolling start for tee times\, meaning each week you’ll get a new tee time between 6:10 – 7:10 pm. More detailed information and tee times will be emailed to participants a few days prior to the start date. Participants should ensure they can arrive in time for 5:00 p.m. dinner at the golf course prior to registering for this program as tee times will be assigned a few days in advance. \n__\nCANCELLATION / REFUND POLICY:\nAll program sales are final. Substitutions will be permitted. Purchaser responsible for finding alternate and handling payment transfer directly. Cancellation and refund requests for medical reasons will be reviewed by emailing info@167.99.187.115. By purchasing package\, the purchaser confirms they have read program description and agree to the terms of the package including: contents\, dates\, times\, price\, and cancellation and refund policy restrictions.
URL:https://golfandtacos.com/event/vancouver-mid-summer-medium-league-thursdays-july-15-22-29-aug-5-university-golf-club/
LOCATION:University Golf Club\, 5185 University Blvd\, Vancouver\, British Columbia\, V6T 1X5\, Canada
CATEGORIES:HOT,LEAGUE PLAY,MEDIUM,SPICY,Vancouver
ORGANIZER;CN="Golf%20%26%20Tacos%20Vancouver":MAILTO:golfandtacos.vancouver@gmail.com
END:VEVENT
BEGIN:VEVENT
DTSTART;TZID=America/Vancouver:20210715T171500
DTEND;TZID=America/Vancouver:20210715T210000
DTSTAMP:20260421T224931
CREATED:20210611T231948Z
LAST-MODIFIED:20210707T015915Z
UID:11203-1626369300-1626382800@golfandtacos.com
SUMMARY:VANCOUVER | MID SUMMER | GROUP LESSONS | THURSDAYS (JULY 15\, 22\, 29\, AUG 5) + FRIDAY (AUG 6) **MCCLEERY**
DESCRIPTION:MID SUMMER GROUP LESSONS\nTHURSDAYS | July 15\, 22\, 29\, Aug 5 + FRIDAY (Aug 6) Wrap Night\nLessons Location: MCCLEERY GOLF COURSE\nCoached by: Sandra Comadina\nWrap Night: University Golf Club \nLESSON:\n5:15 | MILD\n6:30 | MILD\n7:45 | MEDIUM \n  \nREGISTRATION INCLUDES:\n(4) 60-minute group lessons\n(1) $25 Tacofino GC to enjoy with your crew when dining allows*\n(1) Wrap night with taco dinner + drink\, 9-hole greens fee at UNIVERSITY GOLF CLUB \n*NOTE: Due to COVID-19\, we are unable to formally offer our welcome taco dinner. We have however opted to support local by instead providing Tacofino GCs to our golfers that can be used at a later date to enjoy tasty tacos together when restrictions allow. McCleery Golf Course does have a concession stand that sells alternative F&B options should participants wish to enjoy refreshments before / after each lesson.\n__\nCANCELLATION / REFUND POLICY: \nAll program sales are final. No substitutions. Cancellation and refund requests will be reviewed by emailing info@167.99.187.115. Participant substitutions are not be permitted. Golf & Tacos does not guarantee\, but will make a reasonable best effort to schedule a make-up lesson date upon the conclusion of the program for those participants who missed lessons for medical reasons or family emergencies. By purchasing package the purchaser confirms they have read program description and agree to the terms of the package including: contents\, dates\, times\, price\, and cancellation and refund policy restrictions.
URL:https://golfandtacos.com/event/vancouver-mid-summer-group-lessons-thursdays-july-15-22-29-aug-5-friday-aug-6-mccleery/
LOCATION:McCleery Golf Course\, 7188 Macdonald St\, Vancouver\, BC\, V6N 1G2\, Canada
CATEGORIES:GROUP LESSON,MEDIUM,MILD,Vancouver
ORGANIZER;CN="Golf%20%26%20Tacos%20Vancouver":MAILTO:golfandtacos.vancouver@gmail.com
END:VEVENT
BEGIN:VEVENT
DTSTART;TZID=America/Vancouver:20210715T183000
DTEND;TZID=America/Vancouver:20210715T203000
DTSTAMP:20260421T224931
CREATED:20210611T211204Z
LAST-MODIFIED:20210708T221530Z
UID:11117-1626373800-1626381000@golfandtacos.com
SUMMARY:VANCOUVER | MID SUMMER | PLAY WITH A PRO LESSONS | THURSDAYS (JULY 15\, 22\, 29) **MAYFAIR LAKES**
DESCRIPTION:MID SUMMER PLAY WITH A PRO LESSONS\nTHURSDAYS | July 15\, 22\, 29\nLocation: MAYFAIR LAKES GOLF & COUNTRY CLUB\nCoached by: Keri Moffat and Christine Wong \n  \nSPICY LEVEL: MEDIUM+\nPlay with a Pro on-course lessons are geared towards Golf & Tacos community members who are looking to take that next step to elevate their game and improve their on-course management (I.e. Club selection\, accuracy\, alignment\, on-course management best practices\, etc.). Golfers must be comfortable with their swing fundamentals as coaches will not be focusing on teaching or correcting these skills. \nBeginners who have never picked up a club or are just starting out should grab a spot in MILD and MEDIUM Group Lessons first. \n\nWEEKLY SCHEDULE :\n6:30 | Lesson\n7:30 | Dinner \n\nREGISTRATION INCLUDES:\nNight 1: Group Lesson at the range\, dinner + drink after\nNights 2 & 3: Group Lesson on the golf course\, dinner + drink after \nGroups will be instructed in a 4:1 coach-to-player ratio\, but enjoy dinner all together on the patio.\n__\nCANCELLATION / REFUND POLICY: \nAll program sales are final. No substitutions. Cancellation and refund requests for medical reasons will be reviewed by emailing info@167.99.187.115. By purchasing package the purchaser confirms they have read program description and agree to the terms of the package including: contents\, dates\, times\, price\, and cancellation and refund policy restrictions. 
URL:https://golfandtacos.com/event/vancouver-mid-summer-play-with-a-pro-thursdays-july-15-22-29-mayfair-lakes/
LOCATION:Mayfair Lakes Golf & Country Club\, 5460 Number 7 Rd\, Richmond\, British Columbia\, V6V 1R7\, Canada
CATEGORIES:HOT,MEDIUM,PLAY WITH A PRO,Vancouver
ORGANIZER;CN="Golf%20%26%20Tacos%20Vancouver":MAILTO:golfandtacos.vancouver@gmail.com
END:VEVENT
END:VCALENDAR