BEGIN:VCALENDAR
VERSION:2.0
PRODID:-//Golf &amp; Tacos - ECPv5.14.1//NONSGML v1.0//EN
CALSCALE:GREGORIAN
METHOD:PUBLISH
X-WR-CALNAME:Golf &amp; Tacos
X-ORIGINAL-URL:https://golfandtacos.com
X-WR-CALDESC:Events for Golf &amp; Tacos
REFRESH-INTERVAL;VALUE=DURATION:PT1H
X-Robots-Tag:noindex
X-PUBLISHED-TTL:PT1H
BEGIN:VTIMEZONE
TZID:America/Chicago
BEGIN:DAYLIGHT
TZOFFSETFROM:-0600
TZOFFSETTO:-0500
TZNAME:CDT
DTSTART:20210314T080000
END:DAYLIGHT
BEGIN:STANDARD
TZOFFSETFROM:-0500
TZOFFSETTO:-0600
TZNAME:CST
DTSTART:20211107T070000
END:STANDARD
TZID:America/Regina
BEGIN:STANDARD
TZOFFSETFROM:-0600
TZOFFSETTO:-0600
TZNAME:CST
DTSTART:20210101T000000
END:STANDARD
END:VTIMEZONE
BEGIN:VEVENT
DTSTART;TZID=America/Chicago:20210603T170000
DTEND;TZID=America/Chicago:20210603T204500
DTSTAMP:20260422T050214
CREATED:20210418T044226Z
LAST-MODIFIED:20210426T012308Z
UID:8538-1622739600-1622753100@golfandtacos.com
SUMMARY:EARLY SUMMER | GROUP LESSONS | Tuesdays (June 1\, 8\, 15\, 22) + Saturday (June 26)
DESCRIPTION:Spring Group Lessons\nTUESDAYS | June 1\, 8\, 15\, 22 + Saturday Wrap Night (June 26)\nLessons Location: Deer Valley Golf Club\nCoached by: John Greenough \nLESSON TIMESLOT OPTIONS:\n5:15 | MILD\n6:30 | MEDIUM\n7:45 | MILD \nREGISTRATION INCLUDES:\n(4) 60-minute group lessons*at Deer Valley Golf Club\n(1) Welcome night taco dinner and drink on the first night\n(1) Wrap night with taco dinner + drink\, 9-hole greens fee\, cart \n\n*NOTE: Dinner is only included on the first and last nights (June 1 and June 26). Participants are welcome head to the patio to grab tacos after lessons 2\, 3\, and 4 should your schedule allow before or after your lesson.\n\n__\nCANCELLATION / REFUND POLICY: \nAll program sales are final. No substitutions. Cancellation and refund requests for medical reasons will be reviewed by submitting a Request A Refund form located on the FAQ page. Participant substitutions are not be permitted. Golf & Tacos does not guarantee\, but will make a reasonable best effort to schedule a make-up lesson date upon the conclusion of the program for those participants who missed lessons for medical reasons or family emergencies. By purchasing package the purchaser confirms they have read program description and agree to the terms of the package including: contents\, dates\, times\, price\, and cancellation and refund policy restrictions.
URL:https://golfandtacos.com/event/early-summer-group-lessons-tuesdays-june-saturday-june-26/
LOCATION:Deer Valley Golf Club\, 10 Deer Valley Rd\, Deer Valley\, Saskatchewan\, S2V 1B6\, Canada
CATEGORIES:GROUP LESSON,MEDIUM,MILD,Regina
ORGANIZER;CN="Golf%20%26%20Tacos%20Regina":MAILTO:golfandtacos.regina@gmail.com
END:VEVENT
BEGIN:VEVENT
DTSTART;TZID=America/Regina:20210603T170000
DTEND;TZID=America/Regina:20210624T203000
DTSTAMP:20260422T050214
CREATED:20210511T215813Z
LAST-MODIFIED:20210608T222003Z
UID:10383-1622739600-1624566600@golfandtacos.com
SUMMARY:EARLY SUMMER | LEAGUE NIGHTS | THURSDAYS (June 3\, 10\, 17\, 24) **DEER VALLEY**
DESCRIPTION:EARLY SUMMER LEAGUE NIGHTS \n\nTHURSDAYS | June 3\, 10\, 17\, 24\nLocations: Deer Valley Golf Club \n\n\n\nSPICY LEVEL: MEDIUM+\nThursday League Nights at Deer Valley Golf Club are geared towards Golf & Tacos community members with golf course experience and a comfort level of MEDIUM or higher. Participants should feel comfortable playing long Par 4 and Par 5 holes and be able to maintain reasonable pace of play. This program is not geared towards our MILD golfers. Please register for the Monday MILD League to ensure you and your foursome have the best experience possible. \n\n\nSCHEDULE (TBC):\n5:00 | Check-in + Dinner opens for first few tee times\n6:00 | Rolling tee times begin (assigned in advance) \n  \n\n\nREGISTRATION INCLUDES:\nPackage of (4) Nights at Deer Valley Golf Club including: tacos dinner + drink\, greens fee\, cart \nDESCRIPTION:\nLeague Nights are a non-competitive opportunity for an intimate crew of (24) participants to hit the course for some golf + tacos in for four (4) consecutive nights in June! Format will be rolling start for tee times\, meaning each week you’ll get a new tee time between ~5:40 – 6:40 pm. More detailed information and tee times will be emailed to participants a few days prior to the start date. Participants must ensure they can arrive in time for a 5:40p.m. start at the golf course prior to registering for this program as tee times will be assigned a few days in advance. Please be prepared to arrive 15 minutes before your start time to check-in. \n__\nCANCELLATION / REFUND POLICY:\nAll program sales are final. No substitutions. Cancellation and refund requests for medical reasons will be reviewed by submitting a Request A Refund form located on the FAQ page. By purchasing package\, the purchaser confirms they have read program description and agree to the terms of the package including: contents\, dates\, times\, price\, and cancellation and refund policy restrictions. 
URL:https://golfandtacos.com/event/10383/
LOCATION:Deer Valley Golf Club\, 10 Deer Valley Rd\, Deer Valley\, Saskatchewan\, S2V 1B6\, Canada
CATEGORIES:HOT,LEAGUE PLAY,MEDIUM,Regina,SPICY
ORGANIZER;CN="Golf%20%26%20Tacos%20Regina":MAILTO:golfandtacos.regina@gmail.com
END:VEVENT
END:VCALENDAR