BEGIN:VCALENDAR
VERSION:2.0
PRODID:-//Golf &amp; Tacos - ECPv5.14.1//NONSGML v1.0//EN
CALSCALE:GREGORIAN
METHOD:PUBLISH
X-WR-CALNAME:Golf &amp; Tacos
X-ORIGINAL-URL:https://golfandtacos.com
X-WR-CALDESC:Events for Golf &amp; Tacos
REFRESH-INTERVAL;VALUE=DURATION:PT1H
X-Robots-Tag:noindex
X-PUBLISHED-TTL:PT1H
BEGIN:VTIMEZONE
TZID:America/Vancouver
BEGIN:DAYLIGHT
TZOFFSETFROM:-0800
TZOFFSETTO:-0700
TZNAME:PDT
DTSTART:20210314T100000
END:DAYLIGHT
BEGIN:STANDARD
TZOFFSETFROM:-0700
TZOFFSETTO:-0800
TZNAME:PST
DTSTART:20211107T090000
END:STANDARD
END:VTIMEZONE
BEGIN:VEVENT
DTSTART;TZID=America/Vancouver:20210910T163000
DTEND;TZID=America/Vancouver:20210910T200000
DTSTAMP:20260422T164825
CREATED:20210831T175629Z
LAST-MODIFIED:20210831T182057Z
UID:13123-1631291400-1631304000@golfandtacos.com
SUMMARY:EDMONTON | LATE SUMMER WRAP NIGHT (SEPT 10) | ALUMNI INVITE **EAGLE ROCK**
DESCRIPTION:We’ve had an absolute BLAST this season with all of you and get pretty dang excited seeing all the golf posts in your stories! We hope you’ve enjoyed getting out there with some good company\, a few bevies\, and laughed off any swing-and-misses or wild shots. Though from the looks of it… there’s definitely some drives being crushed! \nFor some of you\, the summer may have gotten crazy and you haven’t had a chance to hit the links since your last wrap night… (we hope not\, but damn where has August gone?!) \nGolf season in YEG is almost over\, but before you swap your clubs for cozy sweaters\, Uggs and a toasty PSL … we have one more Wrap Night to close out this season with a bang! \nThere are a few tee times available at the Wrap Night for the Late Summer cohort on September 10th at Eagle Rock GC and we are pumped to invite any Golf & Tacos alumni that want to come mix\, mingle\, and marg their way into Fall. \n  \nLATE SUMMER WRAP NIGHT – ALUMNI INVITE!  \nFriday\, September 10 \nTee Times: 4:30 – 5:30 p.m. \nDinner to follow at Eagle Rock GC \nRegistration: $69.00 + tax \nIncludes: 9-Hole Greens fee\, dinner and drink\, entry into door prizes\, some treats from Socialite Vodka  \n  \nPairings & Tee Times:  \nRegister as a solo and we’ll pair you with another G&T alum\, or\, send us your pairing requests by Friday\, Sept 3 @ 5:00pm MST by emailing golfandtacos.edmonton@gmail.com or replying to this email. \n  \nREGISTER BY FRIDAY\, SEPT 3 @ 5PM MST.  \n__ \nCANCELLATION / REFUND POLICY: \nAll program sales are final. Cancellation and refund requests will be reviewed by emailing info@167.99.187.115. Participant substitutions will be considered should ticket holder be unable to attend. In the event of inclement weather\, a rain check will be issued. By purchasing package the purchaser confirms they have read program description and agree to the terms of the package including: contents\, dates\, times\, price\, and cancellation and refund policy restrictions. \n  \nCOVID-19 \nAll Golf & Tacos Edmonton programs and events will comply with current provincial health orders and are subject to change from time of purchase and event date. All ticket holders must comply with posted restrictions at time of event. 
URL:https://golfandtacos.com/event/edmonton-late-summer-wrap-night-sept-10-alumni-invite-eagle-rock/
LOCATION:Eagle Rock Golf Club\, 50549 Range Rd 234\, Leduc County\, AB\, T4X 0L7\, Canada
CATEGORIES:Edmonton,HOT,MEDIUM,MILD,SPECIAL EVENTS,SPICY
ORGANIZER;CN="Golf%20%26%20Tacos%20Edmonton":MAILTO:golfandtacos.edmonton@gmail.com
END:VEVENT
END:VCALENDAR