BEGIN:VCALENDAR
VERSION:2.0
PRODID:-//Golf &amp; Tacos - ECPv5.14.1//NONSGML v1.0//EN
CALSCALE:GREGORIAN
METHOD:PUBLISH
X-WR-CALNAME:Golf &amp; Tacos
X-ORIGINAL-URL:https://golfandtacos.com
X-WR-CALDESC:Events for Golf &amp; Tacos
REFRESH-INTERVAL;VALUE=DURATION:PT1H
X-Robots-Tag:noindex
X-PUBLISHED-TTL:PT1H
BEGIN:VTIMEZONE
TZID:America/Chicago
BEGIN:DAYLIGHT
TZOFFSETFROM:-0600
TZOFFSETTO:-0500
TZNAME:CDT
DTSTART:20210314T080000
END:DAYLIGHT
BEGIN:STANDARD
TZOFFSETFROM:-0500
TZOFFSETTO:-0600
TZNAME:CST
DTSTART:20211107T070000
END:STANDARD
END:VTIMEZONE
BEGIN:VEVENT
DTSTART;TZID=America/Chicago:20210610T180000
DTEND;TZID=America/Chicago:20210610T200000
DTSTAMP:20260422T222911
CREATED:20210418T065819Z
LAST-MODIFIED:20210420T004856Z
UID:8620-1623348000-1623355200@golfandtacos.com
SUMMARY:EARLY SUMMER | PLAY WITH A PRO | THURSDAYS (June 10\, 17\, 24)
DESCRIPTION:EARLY SUMMER PLAY WITH A PRO\nTHURSDAYS | June 10\, 17\, 24\nLocation: Eagle Rock Golf Club\nCoached by: Cody Yaremovich \n\nSPICY LEVEL: MEDIUM+\nPlay with a Pro lessons are geared towards Golf & Tacos community members who are looking to transition their game from range to golf course\, gain on-course management tips (I.e. Ready golf\, club selection\, alignment\, best practices\, pace of play\, etc.). Golfers should have basic swing fundamentals down as coaches will not be focusing on teaching or correcting these skills. Beginners who have never picked up a club should start by learning the basic skills at a MILD and MEDIUM Group Lesson first. \nSCHEDULE (TBC):\n6:00 | Dinner\n7:00 | Lesson \nREGISTRATION INCLUDES:\nNight 1: Dinner\, drink\, lesson at the range\nNights 2 & 3: Dinner\, drink\, on-course lesson \n__\nCANCELLATION / REFUND POLICY:\nAll program sales are final. No substitutions. Cancellation and refund requests for medical reasons will be reviewed by submitting a Request A Refund form located on the FAQ page. By purchasing package the purchaser confirms they have read program description and agree to the terms of the package including: contents\, dates\, times\, price\, and cancellation and refund policy restrictions. 
URL:https://golfandtacos.com/event/early-summer-play-with-a-pro-thursdays-june-10-17-24/
LOCATION:Eagle Rock Golf Club\, 50549 Range Rd 234\, Leduc County\, AB\, T4X 0L7\, Canada
CATEGORIES:Edmonton,HOT,MEDIUM,PLAY WITH A PRO,SPICY
ORGANIZER;CN="Golf%20%26%20Tacos%20Edmonton":MAILTO:golfandtacos.edmonton@gmail.com
END:VEVENT
END:VCALENDAR